BEGIN:VCALENDAR
VERSION:2.0
PRODID:-//Midwest Renewable Energy Association - ECPv6.15.17.1//NONSGML v1.0//EN
CALSCALE:GREGORIAN
METHOD:PUBLISH
X-WR-CALNAME:Midwest Renewable Energy Association
X-ORIGINAL-URL:https://midwestrenew.org
X-WR-CALDESC:Events for Midwest Renewable Energy Association
REFRESH-INTERVAL;VALUE=DURATION:PT1H
X-Robots-Tag:noindex
X-PUBLISHED-TTL:PT1H
BEGIN:VTIMEZONE
TZID:America/Chicago
BEGIN:DAYLIGHT
TZOFFSETFROM:-0600
TZOFFSETTO:-0500
TZNAME:CDT
DTSTART:20250309T080000
END:DAYLIGHT
BEGIN:STANDARD
TZOFFSETFROM:-0500
TZOFFSETTO:-0600
TZNAME:CST
DTSTART:20251102T070000
END:STANDARD
BEGIN:DAYLIGHT
TZOFFSETFROM:-0600
TZOFFSETTO:-0500
TZNAME:CDT
DTSTART:20260308T080000
END:DAYLIGHT
BEGIN:STANDARD
TZOFFSETFROM:-0500
TZOFFSETTO:-0600
TZNAME:CST
DTSTART:20261101T070000
END:STANDARD
BEGIN:DAYLIGHT
TZOFFSETFROM:-0600
TZOFFSETTO:-0500
TZNAME:CDT
DTSTART:20270314T080000
END:DAYLIGHT
BEGIN:STANDARD
TZOFFSETFROM:-0500
TZOFFSETTO:-0600
TZNAME:CST
DTSTART:20271107T070000
END:STANDARD
END:VTIMEZONE
BEGIN:VEVENT
DTSTART;VALUE=DATE:20260929
DTEND;VALUE=DATE:20261001
DTSTAMP:20260423T040921
CREATED:20260420T174526Z
LAST-MODIFIED:20260420T174526Z
UID:79240-1790640000-1790812799@midwestrenew.org
SUMMARY:2026 MnSEIA Gateway to Solar Conference
DESCRIPTION:Join the MREA at the 2026 MnSEIA Gateway to Solar Conference on September 29–30\, 2026 in Minneapolis\, MN. \nThe Gateway to Solar Conference\, hosted by the Minnesota Solar Energy Industries Association (MnSEIA)\, is one of the Midwest’s biggest and best solar + storage conferences. Each year solar installers and developers\, manufacturers\, distributors\, financiers\, engineers\, utilities\, job trainers\, trade unions\, non-profits\, government agencies\, and more gather for quality networking and education. \nMeet industry professionals from across the state and country\, hear from state officials\, regulators\, and legislators\, and gain in-depth insight into Minnesota’s booming market and where it’s headed during this exciting two-day conference. \nREGISTER TO ATTEND\n 
URL:https://midwestrenew.org/event/2026-mnseia-gateway-to-solar-conference/
LOCATION:InterContinental Minneapolis – St. Paul Airport\, 5005 Glumack Dr\, Minneapolis\, MN\, 55450\, United States
CATEGORIES:Event
ATTACH;FMTTYPE=image/jpeg:https://midwestrenew.org/wp-content/uploads/2026/04/images.jpeg
END:VEVENT
BEGIN:VEVENT
DTSTART;VALUE=DATE:20261028
DTEND;VALUE=DATE:20261030
DTSTAMP:20260423T040921
CREATED:20260420T171708Z
LAST-MODIFIED:20260420T171708Z
UID:79231-1793145600-1793318399@midwestrenew.org
SUMMARY:Chicago Build 2026
DESCRIPTION:Join the MREA for Chicago Build 2026 on October 28–29 in Chicago\, IL. \nChicago Build offers a totally unique experience over the two days\, featuring: \n\n30\,000+ attendees from contractors\, architects\, realtors\, civil engineers\, developers\, government\, house builders and construction professionals\n450+ incredible speakers across 13 conference tracks\nAIA CES approved workshops\nThe Festival of Construction with DJs\, musicians\, live performances\, food and drinks tastings\, entertainment and more\nArchitect’s Hub with project displays of upcoming projects from leading architects\nExclusive networking parties with key decision-makers\nThe USA’s largest networking event for Women in Construction and Diversity in Construction\nAn inclusive Ambassador Program supporting Women in Construction and Diversity in Construction\n350+ exhibitors showcasing the latest services\, products and innovations\n\nREGISTER TO ATTEND
URL:https://midwestrenew.org/event/chicago-build-2026/
LOCATION:McCormick Place\, West Building\, 2301 S Lake Shore Dr\, Chicago\, IL\, 60616\, United States
CATEGORIES:Event
ATTACH;FMTTYPE=image/webp:https://midwestrenew.org/wp-content/uploads/2026/04/Chicago-Build-2026.webp
END:VEVENT
END:VCALENDAR