BEGIN:VCALENDAR
VERSION:2.0
PRODID:-//Midwest Renewable Energy Association - ECPv6.15.17.1//NONSGML v1.0//EN
CALSCALE:GREGORIAN
METHOD:PUBLISH
X-WR-CALNAME:Midwest Renewable Energy Association
X-ORIGINAL-URL:https://midwestrenew.org
X-WR-CALDESC:Events for Midwest Renewable Energy Association
REFRESH-INTERVAL;VALUE=DURATION:PT1H
X-Robots-Tag:noindex
X-PUBLISHED-TTL:PT1H
BEGIN:VTIMEZONE
TZID:America/Chicago
BEGIN:DAYLIGHT
TZOFFSETFROM:-0600
TZOFFSETTO:-0500
TZNAME:CDT
DTSTART:20250309T080000
END:DAYLIGHT
BEGIN:STANDARD
TZOFFSETFROM:-0500
TZOFFSETTO:-0600
TZNAME:CST
DTSTART:20251102T070000
END:STANDARD
BEGIN:DAYLIGHT
TZOFFSETFROM:-0600
TZOFFSETTO:-0500
TZNAME:CDT
DTSTART:20260308T080000
END:DAYLIGHT
BEGIN:STANDARD
TZOFFSETFROM:-0500
TZOFFSETTO:-0600
TZNAME:CST
DTSTART:20261101T070000
END:STANDARD
BEGIN:DAYLIGHT
TZOFFSETFROM:-0600
TZOFFSETTO:-0500
TZNAME:CDT
DTSTART:20270314T080000
END:DAYLIGHT
BEGIN:STANDARD
TZOFFSETFROM:-0500
TZOFFSETTO:-0600
TZNAME:CST
DTSTART:20271107T070000
END:STANDARD
END:VTIMEZONE
BEGIN:VEVENT
DTSTART;TZID=America/Chicago:20260624T173000
DTEND;TZID=America/Chicago:20260624T183000
DTSTAMP:20260420T234215
CREATED:20260415T013623Z
LAST-MODIFIED:20260415T013623Z
UID:79155-1782322200-1782325800@midwestrenew.org
SUMMARY:Grow Solar Power Hour: Central Wisconsin — June 24
DESCRIPTION:Grow Solar is a solar group-buying and education program that makes going solar easier. Offered by the Midwest Renewable Energy Association\, property owners in central Wisconsin can pool their buying power to secure significant discounts that make installing solar more affordable. \nJoin us at an upcoming Power Hour to learn more: \nWednesday\, June 24 | 5:30 p.m. | Virtual — attend via Zoom \nLearn More
URL:https://midwestrenew.org/event/grow-solar-power-hour-central-wisconsin-june-24/
LOCATION:Online
CATEGORIES:Event
ATTACH;FMTTYPE=image/png:https://midwestrenew.org/wp-content/uploads/2025/08/GrowSolarCWLogo.lockupSCREEN-09.png
ORGANIZER;CN="Midwest Renewable Energy Association (MREA)":MAILTO:info@midwestrenew.org
END:VEVENT
BEGIN:VEVENT
DTSTART;TZID=America/Chicago:20260630T153000
DTEND;TZID=America/Chicago:20260630T163000
DTSTAMP:20260420T234215
CREATED:20260415T015558Z
LAST-MODIFIED:20260415T015558Z
UID:79167-1782833400-1782837000@midwestrenew.org
SUMMARY:Grow Solar Power Hour: Door County — June 30
DESCRIPTION:Grow Solar is a solar group-buying and education program that makes going solar easier. Offered by the Midwest Renewable Energy Association\, property owners in Door County can pool their buying power to secure significant discounts that make installing solar more affordable. \nJoin us at an upcoming Power Hour to learn more: \nTuesday\, June 30 | 3:30 p.m. | Virtual — attend via Zoom \nLearn More
URL:https://midwestrenew.org/event/grow-solar-power-hour-door-county-june-30/
LOCATION:Online
CATEGORIES:Event
ATTACH;FMTTYPE=image/png:https://midwestrenew.org/wp-content/uploads/2025/08/GS-Door-Co.-Logo.png
ORGANIZER;CN="Midwest Renewable Energy Association (MREA)":MAILTO:info@midwestrenew.org
END:VEVENT
BEGIN:VEVENT
DTSTART;TZID=America/Chicago:20260702T120000
DTEND;TZID=America/Chicago:20260702T130000
DTSTAMP:20260420T234215
CREATED:20260415T203333Z
LAST-MODIFIED:20260415T203333Z
UID:79199-1782993600-1782997200@midwestrenew.org
SUMMARY:Grow Solar Power Hour: Milwaukee Waukesha — July 2
DESCRIPTION:Grow Solar is a solar group-buying and education program that makes going solar easier. Offered by the Midwest Renewable Energy Association\, property owners in the Milwaukee and Waukesha area can pool their buying power to secure significant discounts that make installing solar more affordable. \nJoin us at an upcoming Power Hour to learn more: \nThursday\, July 2 | 12 p.m. | Virtual — attend via Zoom \nLearn More
URL:https://midwestrenew.org/event/grow-solar-power-hour-milwaukee-waukesha-july-2/
LOCATION:Online
CATEGORIES:Event
ATTACH;FMTTYPE=image/png:https://midwestrenew.org/wp-content/uploads/2026/04/GS-MW-Logo.png
ORGANIZER;CN="Midwest Renewable Energy Association (MREA)":MAILTO:info@midwestrenew.org
END:VEVENT
BEGIN:VEVENT
DTSTART;TZID=America/Chicago:20260709T150000
DTEND;TZID=America/Chicago:20260709T160000
DTSTAMP:20260420T234215
CREATED:20260415T204049Z
LAST-MODIFIED:20260415T204049Z
UID:79208-1783609200-1783612800@midwestrenew.org
SUMMARY:Grow Solar Power Hour: East Central Iowa — July 9
DESCRIPTION:Grow Solar is a solar group-buying and education program that makes going solar easier. Offered by the Midwest Renewable Energy Association\, property owners in the east central Iowa area can pool their buying power to secure significant discounts that make installing solar more affordable. \nJoin us at an upcoming Power Hour to learn more: \nThursday\, July 9 | 3 p.m. | Virtual — attend via Zoom \nLearn More
URL:https://midwestrenew.org/event/grow-solar-power-hour-east-central-iowa-july-9/
LOCATION:Online
CATEGORIES:Event
ATTACH;FMTTYPE=image/png:https://midwestrenew.org/wp-content/uploads/2026/04/GS-ECI-Logo.png
ORGANIZER;CN="Midwest Renewable Energy Association (MREA)":MAILTO:info@midwestrenew.org
END:VEVENT
BEGIN:VEVENT
DTSTART;TZID=America/Chicago:20260709T173000
DTEND;TZID=America/Chicago:20260709T183000
DTSTAMP:20260420T234215
CREATED:20260415T202727Z
LAST-MODIFIED:20260415T202727Z
UID:79192-1783618200-1783621800@midwestrenew.org
SUMMARY:Grow Solar Power Hour: Green Bay Fox Valley — July 9
DESCRIPTION:Grow Solar is a solar group-buying and education program that makes going solar easier. Offered by the Midwest Renewable Energy Association\, property owners in the Green Bay and Fox Valley area can pool their buying power to secure significant discounts that make installing solar more affordable. \nJoin us at an upcoming Power Hour to learn more: \nThursday\, July 9 | 5:30 p.m. | Appleton Public Library \nLearn More
URL:https://midwestrenew.org/event/grow-solar-power-hour-green-bay-fox-valley-july-9/
CATEGORIES:Event
ATTACH;FMTTYPE=image/png:https://midwestrenew.org/wp-content/uploads/2026/04/GS-FV-Logo-1.png
ORGANIZER;CN="Midwest Renewable Energy Association (MREA)":MAILTO:info@midwestrenew.org
END:VEVENT
BEGIN:VEVENT
DTSTART;VALUE=DATE:20260728
DTEND;VALUE=DATE:20260730
DTSTAMP:20260420T234215
CREATED:20260420T165041Z
LAST-MODIFIED:20260420T165041Z
UID:79228-1785196800-1785369599@midwestrenew.org
SUMMARY:Midcontinent Clean Energy Summit
DESCRIPTION:Join the MREA for the Midcontinent Clean Energy Summit on July 28–29 in Indianapolis\, IN. \nAttend this conference to cement your place in the unparalleled development and investment opportunities in MISO’s evolving energy landscape. This strategic event goes beyond regulatory settings\, attracting broad participation from a wide variety of stakeholders looking to understand MISO from a development-forward perspective. Join an unmatched faculty of developers\, policymakers\, regulators\, LSEs\, financiers\, tax equity experts\, and other industry leaders as they provide inside intelligence on the dynamics shaping transmission and interconnection\, utility-scale wind and solar\, firm resources\, storage\, community solar\, DERs\, and the policy to get us there in one of the most capital-intensive U.S. power markets. \nThis is where deals are made and futures are shaped. Don’t miss your chance to gain the competitive edge — check out our agenda and secure your spot today! \nREGISTER TO ATTEND
URL:https://midwestrenew.org/event/midcontinent-clean-energy-summit-2/
LOCATION:Marriott Indianapolis North\, 3645 River Crossing Parkway\, Indianapolis\, Indiana\, 46240\, United States
CATEGORIES:Event
ATTACH;FMTTYPE=image/webp:https://midwestrenew.org/wp-content/uploads/2026/04/mce-thumb.webp
END:VEVENT
BEGIN:VEVENT
DTSTART;VALUE=DATE:20260929
DTEND;VALUE=DATE:20261001
DTSTAMP:20260420T234215
CREATED:20260420T174526Z
LAST-MODIFIED:20260420T174526Z
UID:79240-1790640000-1790812799@midwestrenew.org
SUMMARY:2026 MnSEIA Gateway to Solar Conference
DESCRIPTION:Join the MREA at the 2026 MnSEIA Gateway to Solar Conference on September 29–30\, 2026 in Minneapolis\, MN. \nThe Gateway to Solar Conference\, hosted by the Minnesota Solar Energy Industries Association (MnSEIA)\, is one of the Midwest’s biggest and best solar + storage conferences. Each year solar installers and developers\, manufacturers\, distributors\, financiers\, engineers\, utilities\, job trainers\, trade unions\, non-profits\, government agencies\, and more gather for quality networking and education. \nMeet industry professionals from across the state and country\, hear from state officials\, regulators\, and legislators\, and gain in-depth insight into Minnesota’s booming market and where it’s headed during this exciting two-day conference. \nREGISTER TO ATTEND\n 
URL:https://midwestrenew.org/event/2026-mnseia-gateway-to-solar-conference/
LOCATION:InterContinental Minneapolis – St. Paul Airport\, 5005 Glumack Dr\, Minneapolis\, MN\, 55450\, United States
CATEGORIES:Event
ATTACH;FMTTYPE=image/jpeg:https://midwestrenew.org/wp-content/uploads/2026/04/images.jpeg
END:VEVENT
BEGIN:VEVENT
DTSTART;VALUE=DATE:20261028
DTEND;VALUE=DATE:20261030
DTSTAMP:20260420T234215
CREATED:20260420T171708Z
LAST-MODIFIED:20260420T171708Z
UID:79231-1793145600-1793318399@midwestrenew.org
SUMMARY:Chicago Build 2026
DESCRIPTION:Join the MREA for Chicago Build 2026 on October 28–29 in Chicago\, IL. \nChicago Build offers a totally unique experience over the two days\, featuring: \n\n30\,000+ attendees from contractors\, architects\, realtors\, civil engineers\, developers\, government\, house builders and construction professionals\n450+ incredible speakers across 13 conference tracks\nAIA CES approved workshops\nThe Festival of Construction with DJs\, musicians\, live performances\, food and drinks tastings\, entertainment and more\nArchitect’s Hub with project displays of upcoming projects from leading architects\nExclusive networking parties with key decision-makers\nThe USA’s largest networking event for Women in Construction and Diversity in Construction\nAn inclusive Ambassador Program supporting Women in Construction and Diversity in Construction\n350+ exhibitors showcasing the latest services\, products and innovations\n\nREGISTER TO ATTEND
URL:https://midwestrenew.org/event/chicago-build-2026/
LOCATION:McCormick Place\, West Building\, 2301 S Lake Shore Dr\, Chicago\, IL\, 60616\, United States
CATEGORIES:Event
ATTACH;FMTTYPE=image/webp:https://midwestrenew.org/wp-content/uploads/2026/04/Chicago-Build-2026.webp
END:VEVENT
END:VCALENDAR