BEGIN:VCALENDAR
VERSION:2.0
PRODID:-//Midwest Renewable Energy Association - ECPv6.15.17.1//NONSGML v1.0//EN
CALSCALE:GREGORIAN
METHOD:PUBLISH
X-ORIGINAL-URL:https://midwestrenew.org
X-WR-CALDESC:Events for Midwest Renewable Energy Association
REFRESH-INTERVAL;VALUE=DURATION:PT1H
X-Robots-Tag:noindex
X-PUBLISHED-TTL:PT1H
BEGIN:VTIMEZONE
TZID:America/Chicago
BEGIN:DAYLIGHT
TZOFFSETFROM:-0600
TZOFFSETTO:-0500
TZNAME:CDT
DTSTART:20230312T080000
END:DAYLIGHT
BEGIN:STANDARD
TZOFFSETFROM:-0500
TZOFFSETTO:-0600
TZNAME:CST
DTSTART:20231105T070000
END:STANDARD
BEGIN:DAYLIGHT
TZOFFSETFROM:-0600
TZOFFSETTO:-0500
TZNAME:CDT
DTSTART:20240310T080000
END:DAYLIGHT
BEGIN:STANDARD
TZOFFSETFROM:-0500
TZOFFSETTO:-0600
TZNAME:CST
DTSTART:20241103T070000
END:STANDARD
BEGIN:DAYLIGHT
TZOFFSETFROM:-0600
TZOFFSETTO:-0500
TZNAME:CDT
DTSTART:20250309T080000
END:DAYLIGHT
BEGIN:STANDARD
TZOFFSETFROM:-0500
TZOFFSETTO:-0600
TZNAME:CST
DTSTART:20251102T070000
END:STANDARD
END:VTIMEZONE
BEGIN:VEVENT
DTSTART;TZID=America/Chicago:20241211T170000
DTEND;TZID=America/Chicago:20241211T183000
DTSTAMP:20260423T022116
CREATED:20241202T231959Z
LAST-MODIFIED:20241202T231959Z
UID:75374-1733936400-1733941800@midwestrenew.org
SUMMARY:December Member Event
DESCRIPTION:Calling all MREA members — save the date!  \nLet’s talk about the election and what comes next. We are at a crossroads\, and this is an opportunity to learn. We’ll share our perspectives and expected impacts as it relates to the energy system\, and we want to hear from you too. We’ll light the fire\, discuss how we move forward\, and re-ignite our passion and commitment.   \nThis is not a political event and is open to all MREA members. Please RSVP so we can plan accordingly; seats may be limited.    \nWhen: Wednesday\, December 11th\, 5-6:30 p.m.  \nWhere: MREA Education Room\, 7558 Deer Road\, Custer\, WI 54423
URL:https://midwestrenew.org/event/december-member-event/
LOCATION:Midwest Renewable Energy Association\, 7558 Deer Rd\, Custer\, WI\, United States
CATEGORIES:Event
ATTACH;FMTTYPE=image/png:https://midwestrenew.org/wp-content/uploads/2024/12/EOY-Gift-Campaign-Email-Banners.png
ORGANIZER;CN="Midwest Renewable Energy Association (MREA)":MAILTO:info@midwestrenew.org
END:VEVENT
END:VCALENDAR