BEGIN:VCALENDAR
VERSION:2.0
PRODID:-//Midwest Renewable Energy Association - ECPv6.15.17.1//NONSGML v1.0//EN
CALSCALE:GREGORIAN
METHOD:PUBLISH
X-WR-CALNAME:Midwest Renewable Energy Association
X-ORIGINAL-URL:https://midwestrenew.org
X-WR-CALDESC:Events for Midwest Renewable Energy Association
REFRESH-INTERVAL;VALUE=DURATION:PT1H
X-Robots-Tag:noindex
X-PUBLISHED-TTL:PT1H
BEGIN:VTIMEZONE
TZID:America/Chicago
BEGIN:DAYLIGHT
TZOFFSETFROM:-0600
TZOFFSETTO:-0500
TZNAME:CDT
DTSTART:20230312T080000
END:DAYLIGHT
BEGIN:STANDARD
TZOFFSETFROM:-0500
TZOFFSETTO:-0600
TZNAME:CST
DTSTART:20231105T070000
END:STANDARD
BEGIN:DAYLIGHT
TZOFFSETFROM:-0600
TZOFFSETTO:-0500
TZNAME:CDT
DTSTART:20240310T080000
END:DAYLIGHT
BEGIN:STANDARD
TZOFFSETFROM:-0500
TZOFFSETTO:-0600
TZNAME:CST
DTSTART:20241103T070000
END:STANDARD
BEGIN:DAYLIGHT
TZOFFSETFROM:-0600
TZOFFSETTO:-0500
TZNAME:CDT
DTSTART:20250309T080000
END:DAYLIGHT
BEGIN:STANDARD
TZOFFSETFROM:-0500
TZOFFSETTO:-0600
TZNAME:CST
DTSTART:20251102T070000
END:STANDARD
END:VTIMEZONE
BEGIN:VEVENT
DTSTART;VALUE=DATE:20240820
DTEND;VALUE=DATE:20240822
DTSTAMP:20260420T205644
CREATED:20240808T153751Z
LAST-MODIFIED:20240808T154646Z
UID:74099-1724112000-1724284799@midwestrenew.org
SUMMARY:Midcontinent Clean Energy Summit
DESCRIPTION:Join the MREA at the Midcontinent Clean Energy Summit on August 20-21\, 2024 in Indianapolis\, IN and save 15% when you use code 242110. \nGet a deep dive into renewable project development opportunities and challenges in the exploding MISO market! This summit brings together policymakers\, leading developers and financiers\, technical experts\, C&I customers\, and utility executives that will provide their collective insights into the development and finance of utility scale wind and solar\, storage\, community solar\, decarbonization\, and other projects. \nRegister by August 19 and get 15% off when you use code 242110!
URL:https://midwestrenew.org/event/midcontinent-clean-energy-summit/
LOCATION:Marriott Indianapolis North\, 3645 River Crossing Parkway\, Indianapolis\, Indiana\, 46240\, United States
CATEGORIES:Event
ATTACH;FMTTYPE=image/png:https://midwestrenew.org/wp-content/uploads/2024/08/1200x628_mcce-mrea-1.png
END:VEVENT
END:VCALENDAR