BEGIN:VCALENDAR
VERSION:2.0
PRODID:-//Midwest Renewable Energy Association - ECPv6.15.17.1//NONSGML v1.0//EN
CALSCALE:GREGORIAN
METHOD:PUBLISH
X-ORIGINAL-URL:https://midwestrenew.org
X-WR-CALDESC:Events for Midwest Renewable Energy Association
REFRESH-INTERVAL;VALUE=DURATION:PT1H
X-Robots-Tag:noindex
X-PUBLISHED-TTL:PT1H
BEGIN:VTIMEZONE
TZID:America/Chicago
BEGIN:DAYLIGHT
TZOFFSETFROM:-0600
TZOFFSETTO:-0500
TZNAME:CDT
DTSTART:20230312T080000
END:DAYLIGHT
BEGIN:STANDARD
TZOFFSETFROM:-0500
TZOFFSETTO:-0600
TZNAME:CST
DTSTART:20231105T070000
END:STANDARD
BEGIN:DAYLIGHT
TZOFFSETFROM:-0600
TZOFFSETTO:-0500
TZNAME:CDT
DTSTART:20240310T080000
END:DAYLIGHT
BEGIN:STANDARD
TZOFFSETFROM:-0500
TZOFFSETTO:-0600
TZNAME:CST
DTSTART:20241103T070000
END:STANDARD
BEGIN:DAYLIGHT
TZOFFSETFROM:-0600
TZOFFSETTO:-0500
TZNAME:CDT
DTSTART:20250309T080000
END:DAYLIGHT
BEGIN:STANDARD
TZOFFSETFROM:-0500
TZOFFSETTO:-0600
TZNAME:CST
DTSTART:20251102T070000
END:STANDARD
END:VTIMEZONE
BEGIN:VEVENT
DTSTART;TZID=America/Chicago:20240622T080000
DTEND;TZID=America/Chicago:20240622T170000
DTSTAMP:20260425T061447
CREATED:20240222T192419Z
LAST-MODIFIED:20240222T193120Z
UID:71942-1719043200-1719075600@midwestrenew.org
SUMMARY:The 33rd Annual Energy Fair
DESCRIPTION:TICKETS GO ON SALE APRIL 1 AT 9 A.M.\nJoin us at The 33rd Annual Energy Fair on Saturday\, June 22\, 2024! \nOrganized by the Midwest Renewable Energy Association\, The Energy Fair is the nation’s longest-running event of its kind and brings thousands of attendees together to learn about sustainability and clean energy\, connect with others\, and take action toward a sustainable future for all. \nThis year\, The Energy Fair has evolved into a single day\, consumer-focused event. The Fair will feature a competitive selection of workshops\, demonstrations\, exhibit booths\, and the usual music and fun that has always been at the heart of the Fair. \nJoin us for the Rise Up and Race 5K the morning of The Fair starting at 8 a.m. Sign up at: https://runsignup.com/Race/WI/Custer/TheEnergyFair5K \nThe Energy Fair happens rain or shine! We’ll see you there!\nLearn more at: www.theenergyfair.org
URL:https://midwestrenew.org/event/the-33rd-annual-energy-fair/
LOCATION:Midwest Renewable Energy Association\, 7558 Deer Rd\, Custer\, WI\, United States
CATEGORIES:Event
ATTACH;FMTTYPE=image/jpeg:https://midwestrenew.org/wp-content/uploads/2024/02/ef33.jpeg
ORGANIZER;CN="Midwest Renewable Energy Association (MREA)":MAILTO:info@midwestrenew.org
END:VEVENT
END:VCALENDAR