BEGIN:VCALENDAR
VERSION:2.0
PRODID:-//Midwest Renewable Energy Association - ECPv6.15.17.1//NONSGML v1.0//EN
CALSCALE:GREGORIAN
METHOD:PUBLISH
X-WR-CALNAME:Midwest Renewable Energy Association
X-ORIGINAL-URL:https://midwestrenew.org
X-WR-CALDESC:Events for Midwest Renewable Energy Association
REFRESH-INTERVAL;VALUE=DURATION:PT1H
X-Robots-Tag:noindex
X-PUBLISHED-TTL:PT1H
BEGIN:VTIMEZONE
TZID:America/Chicago
BEGIN:DAYLIGHT
TZOFFSETFROM:-0600
TZOFFSETTO:-0500
TZNAME:CDT
DTSTART:20240310T080000
END:DAYLIGHT
BEGIN:STANDARD
TZOFFSETFROM:-0500
TZOFFSETTO:-0600
TZNAME:CST
DTSTART:20241103T070000
END:STANDARD
BEGIN:DAYLIGHT
TZOFFSETFROM:-0600
TZOFFSETTO:-0500
TZNAME:CDT
DTSTART:20250309T080000
END:DAYLIGHT
BEGIN:STANDARD
TZOFFSETFROM:-0500
TZOFFSETTO:-0600
TZNAME:CST
DTSTART:20251102T070000
END:STANDARD
BEGIN:DAYLIGHT
TZOFFSETFROM:-0600
TZOFFSETTO:-0500
TZNAME:CDT
DTSTART:20260308T080000
END:DAYLIGHT
BEGIN:STANDARD
TZOFFSETFROM:-0500
TZOFFSETTO:-0600
TZNAME:CST
DTSTART:20261101T070000
END:STANDARD
END:VTIMEZONE
BEGIN:VEVENT
DTSTART;TZID=America/Chicago:20250108T170000
DTEND;TZID=America/Chicago:20250108T180000
DTSTAMP:20260421T182536
CREATED:20241209T172352Z
LAST-MODIFIED:20241209T190350Z
UID:75422-1736355600-1736359200@midwestrenew.org
SUMMARY:Solar Training Info Session: Energize Your Solar Career in 2025!
DESCRIPTION:Explore Your Training Path to Solar Success \nReady to launch or grow your solar career? Want to upskill your team or bring solar training to your community? Join us for our 2025 Solar Training Info Session! \n? Date: January 8\, 2025\n? Time: 5:00 PM CST\n? Location: Zoom \nREGISTER TODAY!\nDiscover how MREA’s accredited solar training programs can support your goals with: \n\nNABCEP PV Associate Credential Training Pathway (entry-level)\nNABCEP PV Board Certification Training Pathways (advanced)\nSolar Plus Storage Training\nOnline and In-Person Courses to fit your busy schedule\nCustom Group Training tailored for your team or organization\nContinuing Education to stay ahead in the industry\n\nThis is your chance to ask questions and explore the opportunities that fit your career or organizational needs. Let’s energize your solar career together! Register today\, and submit any questions you have ahead of time. \nQuestions? Contact us at courses@midwestrenew.org \nREGISTER TODAY!
URL:https://midwestrenew.org/event/training-info-session/
LOCATION:MN
CATEGORIES:Event,In-Person Training
ATTACH;FMTTYPE=image/png:https://midwestrenew.org/wp-content/uploads/2024/12/2025-info-session-1-1.png
ORGANIZER;CN="Midwest Renewable Energy Association (MREA)":MAILTO:info@midwestrenew.org
END:VEVENT
BEGIN:VEVENT
DTSTART;TZID=America/Chicago:20250127T090000
DTEND;TZID=America/Chicago:20250131T170000
DTSTAMP:20260421T182536
CREATED:20240130T214828Z
LAST-MODIFIED:20241113T163549Z
UID:71657-1737968400-1738342800@midwestrenew.org
SUMMARY:PV Associate Core Course Package (PV 255.01)
DESCRIPTION:Kickstart Your Solar Career with MREA’s NABCEP PV Associate Core Course Package\nFast-Track Your Solar Career: Earn the NABCEP PV Associate Credential in Just One Week! \nJoin Us for PV Week at MREA in Custer\, WI\nReady to launch your career in solar energy? MREA’s PV Week in Custer\, WI\, is your one-stop opportunity to earn your NABCEP PV Associate Credential in just five days. This immersive\, in-person program is taught by NABCEP-certified solar professionals who will guide you through the fundamentals of solar PV systems. By the end of the week\, you’ll be qualified and ready to sit for the NABCEP PV Associate Exam\, and earn your entry-level solar credential giving you a competitive edge in the industry. \nWhat You’ll Learn During PV Week:\n\n\nMonday: Basic Photovoltaics (PV 101)\nTuesday: PV Site Assessment (PV 201)\nWednesday & Thursday: PV System Design (PV 202)\nFriday: PV Exam Prep (PV 220) & NABCEP PV Associate Exam (optional)\n\nEach day\, classes run from 9:00 AM to 5:00 PM.  \nUpon completion of this series\, you’ll be qualified and ready to sit for the NABCEP PV Associate Exam. When you pass the exam\, you are a solar professional!  \nLearn More / Course Details\nRegister
URL:https://midwestrenew.org/event/pva-255-01/
LOCATION:Midwest Renewable Energy Association\, 7558 Deer Rd\, Custer\, WI\, United States
CATEGORIES:Event,In-Person Training
ATTACH;FMTTYPE=image/png:https://midwestrenew.org/wp-content/uploads/2024/01/Untitled-design-1-1.png
ORGANIZER;CN="Midwest Renewable Energy Association (MREA)":MAILTO:info@midwestrenew.org
END:VEVENT
END:VCALENDAR