BEGIN:VCALENDAR
VERSION:2.0
PRODID:-//Midwest Renewable Energy Association - ECPv6.15.17.1//NONSGML v1.0//EN
CALSCALE:GREGORIAN
METHOD:PUBLISH
X-WR-CALNAME:Midwest Renewable Energy Association
X-ORIGINAL-URL:https://midwestrenew.org
X-WR-CALDESC:Events for Midwest Renewable Energy Association
REFRESH-INTERVAL;VALUE=DURATION:PT1H
X-Robots-Tag:noindex
X-PUBLISHED-TTL:PT1H
BEGIN:VTIMEZONE
TZID:America/Chicago
BEGIN:DAYLIGHT
TZOFFSETFROM:-0600
TZOFFSETTO:-0500
TZNAME:CDT
DTSTART:20250309T080000
END:DAYLIGHT
BEGIN:STANDARD
TZOFFSETFROM:-0500
TZOFFSETTO:-0600
TZNAME:CST
DTSTART:20251102T070000
END:STANDARD
BEGIN:DAYLIGHT
TZOFFSETFROM:-0600
TZOFFSETTO:-0500
TZNAME:CDT
DTSTART:20260308T080000
END:DAYLIGHT
BEGIN:STANDARD
TZOFFSETFROM:-0500
TZOFFSETTO:-0600
TZNAME:CST
DTSTART:20261101T070000
END:STANDARD
BEGIN:DAYLIGHT
TZOFFSETFROM:-0600
TZOFFSETTO:-0500
TZNAME:CDT
DTSTART:20270314T080000
END:DAYLIGHT
BEGIN:STANDARD
TZOFFSETFROM:-0500
TZOFFSETTO:-0600
TZNAME:CST
DTSTART:20271107T070000
END:STANDARD
END:VTIMEZONE
BEGIN:VEVENT
DTSTART;VALUE=DATE:20260613
DTEND;VALUE=DATE:20260614
DTSTAMP:20260422T230106
CREATED:20260415T013434Z
LAST-MODIFIED:20260415T013434Z
UID:79153-1781308800-1781395199@midwestrenew.org
SUMMARY:Grow Solar Power Hour: Central Wisconsin — June 13
DESCRIPTION:Grow Solar is a solar group-buying and education program that makes going solar easier. Offered by the Midwest Renewable Energy Association\, property owners in central Wisconsin can pool their buying power to secure significant discounts that make installing solar more affordable. \nJoin us at an upcoming Power Hour to learn more: \nSaturday\, June 13 | MREA Headquarters \nLearn More
URL:https://midwestrenew.org/event/grow-solar-power-hour-central-wisconsin-june-13/
LOCATION:Midwest Renewable Energy Association\, 7558 Deer Rd\, Custer\, WI\, United States
CATEGORIES:Event
ATTACH;FMTTYPE=image/png:https://midwestrenew.org/wp-content/uploads/2025/08/GrowSolarCWLogo.lockupSCREEN-09.png
ORGANIZER;CN="Midwest Renewable Energy Association (MREA)":MAILTO:info@midwestrenew.org
END:VEVENT
BEGIN:VEVENT
DTSTART;TZID=America/Chicago:20260613T130000
DTEND;TZID=America/Chicago:20260613T210000
DTSTAMP:20260422T230106
CREATED:20260422T200059Z
LAST-MODIFIED:20260422T200059Z
UID:79260-1781355600-1781384400@midwestrenew.org
SUMMARY:MREA Solstice Celebration
DESCRIPTION:A Gathering of Education and Community\n\n\n\nSaturday\, June 13 | 1–9 p.m. | 7558 Deer Road\, Custer\, WI  \nJoin the MREA for our Solstice Celebration on Saturday\, June 13. Hosted at our headquarters in Custer\, WI\, this free event brings our community together to explore clean energy topics\, share practical resources\, and spark actionable change. \nThe MREA was founded in 1990 amid the uncertainty of the Gulf War. More than three decades later\, we find ourselves asking many of the same questions that inspired our beginnings: How do we reduce our reliance on fossil fuels? How do we accelerate the adoption of renewable energy? And how do we come together — as friends\, neighbors\, and communities — to keep moving forward and build a more resilient Midwest? \nJoin us in celebrating the power of the sun and people. We’ll gather on the MREA grounds to address urgent/current energy topics and share resources to utilize at home and in communities. Local and regional partners will participate to answer questions and connect with you on different ways to get engaged in what you care about. Live music\, food\, and beverages will provide the power you need to enjoy this semi-outdoor event. Come for the education; stay for the connection. \n\n\n\n\n\n\n\n\nThis event is free and open to all. If you’re able\, we invite you to support our work by becoming an MREA member or making a donation. A finalized schedule will be available by early May. \n\n\n\n\n\n\n\n\n\n\n\nRSVP
URL:https://midwestrenew.org/event/mrea-solstice-celebration/
LOCATION:Midwest Renewable Energy Association\, 7558 Deer Rd\, Custer\, WI\, United States
CATEGORIES:Event,Membership
ATTACH;FMTTYPE=image/png:https://midwestrenew.org/wp-content/uploads/2026/04/Summer-Solstice-Event-Banner.png
ORGANIZER;CN="Midwest Renewable Energy Association (MREA)":MAILTO:info@midwestrenew.org
END:VEVENT
END:VCALENDAR