BEGIN:VCALENDAR
VERSION:2.0
PRODID:-//Midwest Renewable Energy Association - ECPv6.15.17.1//NONSGML v1.0//EN
CALSCALE:GREGORIAN
METHOD:PUBLISH
X-WR-CALNAME:Midwest Renewable Energy Association
X-ORIGINAL-URL:https://midwestrenew.org
X-WR-CALDESC:Events for Midwest Renewable Energy Association
REFRESH-INTERVAL;VALUE=DURATION:PT1H
X-Robots-Tag:noindex
X-PUBLISHED-TTL:PT1H
BEGIN:VTIMEZONE
TZID:America/Chicago
BEGIN:DAYLIGHT
TZOFFSETFROM:-0600
TZOFFSETTO:-0500
TZNAME:CDT
DTSTART:20250309T080000
END:DAYLIGHT
BEGIN:STANDARD
TZOFFSETFROM:-0500
TZOFFSETTO:-0600
TZNAME:CST
DTSTART:20251102T070000
END:STANDARD
BEGIN:DAYLIGHT
TZOFFSETFROM:-0600
TZOFFSETTO:-0500
TZNAME:CDT
DTSTART:20260308T080000
END:DAYLIGHT
BEGIN:STANDARD
TZOFFSETFROM:-0500
TZOFFSETTO:-0600
TZNAME:CST
DTSTART:20261101T070000
END:STANDARD
BEGIN:DAYLIGHT
TZOFFSETFROM:-0600
TZOFFSETTO:-0500
TZNAME:CDT
DTSTART:20270314T080000
END:DAYLIGHT
BEGIN:STANDARD
TZOFFSETFROM:-0500
TZOFFSETTO:-0600
TZNAME:CST
DTSTART:20271107T070000
END:STANDARD
END:VTIMEZONE
BEGIN:VEVENT
DTSTART;TZID=America/Chicago:20260420T070000
DTEND;TZID=America/Chicago:20260421T153000
DTSTAMP:20260420T161215
CREATED:20260219T171857Z
LAST-MODIFIED:20260219T172454Z
UID:78679-1776668400-1776785400@midwestrenew.org
SUMMARY:Victron Energy Training — Elkhart\, IN
DESCRIPTION:WHEN: Monday\, April 20–Tuesday\, April 21 \nWHERE: Wedgewood Brewing Co\, Middlebury\, IN \nDuring this updated 2-Day Hands-on Training program you will work in small groups to commission and troubleshoot a small scale system\, utilizing the latest Victron Energy products\, working alongside experienced trainers who will be there to assist along the way. \nHighlights of this new training course include: \n\nNew Victron NG batteries with digital communication\nMultiplus II UL\, for capability in all industries\nOrion XS 50 amp DC to DC converter\nA focus on connectivity and Can.Bus Integration featuring Tank Monitoring\, Alternator Regulators\, and Multiplex Integration\n\nLunch will be provided and coffee (from the Victron powered trailer) will be available throughout the event. \nREGISTER TO ATTEND
URL:https://midwestrenew.org/event/victron-energy-training-elkhart-in/
LOCATION:Wedgewood Brewing Company\, 129 Orpha Dr B\, Middlebury\, IN\, 46540\, United States
CATEGORIES:Event
ATTACH;FMTTYPE=image/png:https://midwestrenew.org/wp-content/uploads/2026/02/Victron-Elkhart.png
END:VEVENT
END:VCALENDAR